BEGIN:VCALENDAR
VERSION:2.0
PRODID:-//Klub sportowy MARATONKA Grajewo - ECPv6.15.20//NONSGML v1.0//EN
CALSCALE:GREGORIAN
METHOD:PUBLISH
X-ORIGINAL-URL:https://maratonka.pl
X-WR-CALDESC:Wydarzenia dla Klub sportowy MARATONKA Grajewo
REFRESH-INTERVAL;VALUE=DURATION:PT1H
X-Robots-Tag:noindex
X-PUBLISHED-TTL:PT1H
BEGIN:VTIMEZONE
TZID:Europe/Warsaw
BEGIN:DAYLIGHT
TZOFFSETFROM:+0100
TZOFFSETTO:+0200
TZNAME:CEST
DTSTART:20250330T010000
END:DAYLIGHT
BEGIN:STANDARD
TZOFFSETFROM:+0200
TZOFFSETTO:+0100
TZNAME:CET
DTSTART:20251026T010000
END:STANDARD
BEGIN:DAYLIGHT
TZOFFSETFROM:+0100
TZOFFSETTO:+0200
TZNAME:CEST
DTSTART:20260329T010000
END:DAYLIGHT
BEGIN:STANDARD
TZOFFSETFROM:+0200
TZOFFSETTO:+0100
TZNAME:CET
DTSTART:20261025T010000
END:STANDARD
BEGIN:DAYLIGHT
TZOFFSETFROM:+0100
TZOFFSETTO:+0200
TZNAME:CEST
DTSTART:20270328T010000
END:DAYLIGHT
BEGIN:STANDARD
TZOFFSETFROM:+0200
TZOFFSETTO:+0100
TZNAME:CET
DTSTART:20271031T010000
END:STANDARD
END:VTIMEZONE
BEGIN:VEVENT
DTSTART;TZID=Europe/Warsaw:20260207T080000
DTEND;TZID=Europe/Warsaw:20260207T170000
DTSTAMP:20260419T033922
CREATED:20260122T132214Z
LAST-MODIFIED:20260122T132214Z
UID:2465-1770451200-1770483600@maratonka.pl
SUMMARY:Biegnę dla Sybiraka. Bieg Pamięci Sybiru
DESCRIPTION:Chcąc uczcić ofiary wydarzeń sprzed ponad 80 lat i pielęgnować pamięci o nich Muzeum Pamięci Sybiru i Fundacja Białystok Biega zapraszają na BIEG PAMIĘCI SYBIRU. Bieg organizowany jest zawsze zimową porą na terenach leśnych na dystansie 5 i 10 km w Białymstoku oraz 5 km we Wrocławiu. Zachęcamy również do wzięcia udziału w biegu wirtualnym\, na całym świecie. \n\n\nBiegniemy do Was ze wspaniałą akcją 📣  \n\n\n\n\n👉 Na numerze startowym będziecie mogli umieścić imię i nazwisko Sybiraka\, dla którego chcecie pobiec w Biegu Pamięci Sybiru. Będziecie mieli możliwość wyboru konkretnej rodziny spośród listy dostępnej przy zapisach lub wpisać Sybiraka samodzielnie (np. kogoś ze swojej rodziny). Krótkie historie rodzin Sybiraków możecie przeczytać TUTAJ \n\n\n👉 Możecie też zamówić grawer na swoim medalu. Wygrawerować będziecie mogli imię i nazwisko Sybiraka z naszej listy lub kogoś\, kto jest Wam bliski.
URL:https://maratonka.pl/event/biegne-dla-sybiraka-bieg-pamieci-sybiru/
CATEGORIES:biegi
ATTACH;FMTTYPE=image/jpeg:https://maratonka.pl/wp-content/uploads/2026/01/biegne-dlasybiraka.jpg
END:VEVENT
END:VCALENDAR